BEGIN:VCALENDAR
VERSION:2.0
PRODID:-//DIOCESI DI ROMA - ECPv4.6.14.1//NONSGML v1.0//EN
CALSCALE:GREGORIAN
METHOD:PUBLISH
X-WR-CALNAME:DIOCESI DI ROMA
X-ORIGINAL-URL:https://www.diocesidiroma.it
X-WR-CALDESC:Eventi per DIOCESI DI ROMA
BEGIN:VEVENT
DTSTART;TZID=Europe/Rome:20190331T000000
DTEND;TZID=Europe/Rome:20190331T000000
DTSTAMP:20260421T090359
CREATED:20181011T083332Z
LAST-MODIFIED:20181011T083332Z
UID:5043-1553990400-1553990400@www.diocesidiroma.it
SUMMARY:IV Domenica di Quaresima. Inizia la Settimana della Carità
DESCRIPTION:IV Domenica di Quaresima. Inizia la Settimana della Carità. \n
URL:https://www.diocesidiroma.it/event/iv-domenica-di-quaresima-inizia-la-settimana-della-carita/
CATEGORIES:Ricorrenze
END:VEVENT
END:VCALENDAR