BEGIN:VCALENDAR
VERSION:2.0
PRODID:-//DIOCESI DI ROMA - ECPv4.6.14.1//NONSGML v1.0//EN
CALSCALE:GREGORIAN
METHOD:PUBLISH
X-WR-CALNAME:DIOCESI DI ROMA
X-ORIGINAL-URL:https://www.diocesidiroma.it
X-WR-CALDESC:Eventi per DIOCESI DI ROMA
BEGIN:VEVENT
DTSTART;TZID=Europe/Rome:20240617T100000
DTEND;TZID=Europe/Rome:20240617T120000
DTSTAMP:20260422T164509
CREATED:20240119T084821Z
LAST-MODIFIED:20240119T084821Z
UID:28549-1718618400-1718625600@www.diocesidiroma.it
SUMMARY:“La sapiente prassi educativa dell’anno liturgico” - Laboratorio Presbiterale '23-'24 - Uff. Vocazioni
DESCRIPTION:“La sapiente prassi educativa dell’anno liturgico” – Laboratorio Presbiterale ’23-’24 – Uff. Vocazioni \n
URL:https://www.diocesidiroma.it/event/la-sapiente-prassi-educativa-dellanno-liturgico-laboratorio-presbiterale-23-24-uff-vocazioni/2024-06-17/
CATEGORIES:In Diocesi,Iniziative degli Uffici
END:VEVENT
END:VCALENDAR