BEGIN:VCALENDAR
VERSION:2.0
PRODID:-//DIOCESI DI ROMA - ECPv4.6.14.1//NONSGML v1.0//EN
CALSCALE:GREGORIAN
METHOD:PUBLISH
X-WR-CALNAME:DIOCESI DI ROMA
X-ORIGINAL-URL:https://www.diocesidiroma.it
X-WR-CALDESC:Eventi per DIOCESI DI ROMA
BEGIN:VEVENT
DTSTART;TZID=Europe/Rome:20201014T000000
DTEND;TZID=Europe/Rome:20201014T000000
DTSTAMP:20260420T220019
CREATED:20200917T081540Z
LAST-MODIFIED:20200917T081540Z
UID:11665-1602633600-1602633600@www.diocesidiroma.it
SUMMARY:"La vite e i tralci. Il vino nella Bibbia\, nella storia e nell'arte" presso la parrocchia dei Santi Aquila e Priscilla
DESCRIPTION:“La vite e i tralci. Il vino nella Bibbia\, nella storia e nell’arte” presso la parrocchia dei Santi Aquila e Priscilla\, a cura dell’Ufficio per la pastorale del tempo libero\, del turismo e dello sport. \n
URL:https://www.diocesidiroma.it/event/la-vite-e-i-tralci-il-vino-nella-bibbia-nella-storia-e-nellarte-presso-la-parrocchia-dei-santi-aquila-e-priscilla/
CATEGORIES:Iniziative degli Uffici
END:VEVENT
END:VCALENDAR