BEGIN:VCALENDAR
VERSION:2.0
PRODID:-//DIOCESI DI ROMA - ECPv4.6.14.1//NONSGML v1.0//EN
CALSCALE:GREGORIAN
METHOD:PUBLISH
X-WR-CALNAME:DIOCESI DI ROMA
X-ORIGINAL-URL:https://www.diocesidiroma.it
X-WR-CALDESC:Eventi per DIOCESI DI ROMA
BEGIN:VEVENT
DTSTART;TZID=Europe/Rome:20231016T100000
DTEND;TZID=Europe/Rome:20231016T120000
DTSTAMP:20260421T061050
CREATED:20231006T071937Z
LAST-MODIFIED:20231006T071937Z
UID:27465-1697450400-1697457600@www.diocesidiroma.it
SUMMARY:Laboratorio di formazione per sacerdoti "La sapiente prassi educativa dell'anno liturgico" guidato da Don Fabio Rosini:  - Pontificio Seminario Romano Maggiore (Uff. vocazione e Uff. form. perm. clero)
DESCRIPTION:Laboratorio di formazione per sacerdoti “La sapiente prassi educativa dell’anno liturgico” guidato da Don Fabio Rosini:  – Pontificio Seminario Romano Maggiore (Uff. vocazione e Uff. form. perm. clero) \n
URL:https://www.diocesidiroma.it/event/laboratorio-di-formazione-per-sacerdoti-la-sapiente-prassi-educativa-dellanno-liturgico-guidato-da-don-fabio-rosini-pontificio-seminario-romano-maggiore-uff-vocazione-e-uff-form-perm-cl/
CATEGORIES:In Diocesi,Iniziative degli Uffici
END:VEVENT
END:VCALENDAR