BEGIN:VCALENDAR
VERSION:2.0
PRODID:-//DIOCESI DI ROMA - ECPv4.6.14.1//NONSGML v1.0//EN
CALSCALE:GREGORIAN
METHOD:PUBLISH
X-WR-CALNAME:DIOCESI DI ROMA
X-ORIGINAL-URL:https://www.diocesidiroma.it
X-WR-CALDESC:Eventi per DIOCESI DI ROMA
BEGIN:VEVENT
DTSTART;TZID=Europe/Rome:20200307T093000
DTEND;TZID=Europe/Rome:20200307T170000
DTSTAMP:20260422T061515
CREATED:20190925T151255Z
LAST-MODIFIED:20190925T151255Z
UID:8788-1583573400-1583600400@www.diocesidiroma.it
SUMMARY:"Laboratorio di programmazione": incontro di formazione per gli educatori degli adolescenti al Pontificio Seminario Romano Maggiore
DESCRIPTION:“Laboratorio di programmazione”: incontro di formazione per gli educatori degli adolescenti al Pontificio Seminario Romano Maggiore\, a cura del Servizio per la pastorale giovanile. \n
URL:https://www.diocesidiroma.it/event/laboratorio-di-programmazione-incontro-di-formazione-per-gli-educatori-degli-adolescenti-al-pontificio-seminario-romano-maggiore/
CATEGORIES:Iniziative degli Uffici
END:VEVENT
END:VCALENDAR