BEGIN:VCALENDAR
VERSION:2.0
PRODID:-//DIOCESI DI ROMA - ECPv4.6.14.1//NONSGML v1.0//EN
CALSCALE:GREGORIAN
METHOD:PUBLISH
X-WR-CALNAME:DIOCESI DI ROMA
X-ORIGINAL-URL:https://www.diocesidiroma.it
X-WR-CALDESC:Eventi per DIOCESI DI ROMA
BEGIN:VEVENT
DTSTART;TZID=Europe/Rome:20181204T000000
DTEND;TZID=Europe/Rome:20181204T000000
DTSTAMP:20260423T004820
CREATED:20180918T123156Z
LAST-MODIFIED:20180918T123156Z
UID:4651-1543881600-1543881600@www.diocesidiroma.it
SUMMARY:Laboratorio per sacerdoti
DESCRIPTION:Laboratorio per sacerdoti “Quale comunità per i giovani?”\, a cura del Servizio per la formazione permanente del clero e del Servizio per la pastorale giovanile. \n
URL:https://www.diocesidiroma.it/event/laboratorio-per-sacerdoti-2/
END:VEVENT
END:VCALENDAR