BEGIN:VCALENDAR
VERSION:2.0
PRODID:-//DIOCESI DI ROMA - ECPv4.6.14.1//NONSGML v1.0//EN
CALSCALE:GREGORIAN
METHOD:PUBLISH
X-WR-CALNAME:DIOCESI DI ROMA
X-ORIGINAL-URL:https://www.diocesidiroma.it
X-WR-CALDESC:Eventi per DIOCESI DI ROMA
BEGIN:VEVENT
DTSTART;TZID=Europe/Rome:20190326T000000
DTEND;TZID=Europe/Rome:20190326T000000
DTSTAMP:20260423T080755
CREATED:20181011T083008Z
LAST-MODIFIED:20181011T083008Z
UID:5037-1553558400-1553558400@www.diocesidiroma.it
SUMMARY:Laboratorio per sacerdoti "Quale comunità per i giovani?"
DESCRIPTION:Laboratorio per sacerdoti “Quale comunità per i giovani?”\, a cura del Servizio per la pastorale giovanile e del Servizio per la formazione permanente del clero.  \n
URL:https://www.diocesidiroma.it/event/laboratorio-per-sacerdoti-quale-comunita-per-i-giovani-3/
CATEGORIES:Iniziative degli Uffici
END:VEVENT
END:VCALENDAR