BEGIN:VCALENDAR
VERSION:2.0
PRODID:-//DIOCESI DI ROMA - ECPv4.6.14.1//NONSGML v1.0//EN
CALSCALE:GREGORIAN
METHOD:PUBLISH
X-WR-CALNAME:DIOCESI DI ROMA
X-ORIGINAL-URL:https://www.diocesidiroma.it
X-WR-CALDESC:Eventi per DIOCESI DI ROMA
BEGIN:VEVENT
DTSTART;TZID=Europe/Rome:20181227T000000
DTEND;TZID=Europe/Rome:20181228T000000
DTSTAMP:20260424T015707
CREATED:20180918T125548Z
LAST-MODIFIED:20180918T125548Z
UID:4681-1545868800-1545955200@www.diocesidiroma.it
SUMMARY:Laboratorio sull'affettività
DESCRIPTION:Laboratorio sull’affettività per i giovani dai 17 anni a Santa Maria dell’Acero (Velletri)\, a cura del Servizio per la pastorale giovanile.  \n
URL:https://www.diocesidiroma.it/event/laboratorio-sullaffettivita/
CATEGORIES:Iniziative degli Uffici
END:VEVENT
END:VCALENDAR