BEGIN:VCALENDAR
VERSION:2.0
PRODID:-//DIOCESI DI ROMA - ECPv4.6.14.1//NONSGML v1.0//EN
CALSCALE:GREGORIAN
METHOD:PUBLISH
X-WR-CALNAME:DIOCESI DI ROMA
X-ORIGINAL-URL:https://www.diocesidiroma.it
X-WR-CALDESC:Eventi per DIOCESI DI ROMA
BEGIN:VEVENT
DTSTART;TZID=Europe/Rome:20200217T000000
DTEND;TZID=Europe/Rome:20200221T000000
DTSTAMP:20260420T221358
CREATED:20190925T143613Z
LAST-MODIFIED:20190925T143613Z
UID:8744-1581897600-1582243200@www.diocesidiroma.it
SUMMARY:"L'arte dell'annuncio": secondo turno del corso intensivo di formazione al Munus Docendi per sacerdoti e diaconi
DESCRIPTION:“L’arte dell’annuncio”: secondo turno del corso intensivo di formazione al Munus Docendi per sacerdoti e diaconi\, nella Casa di spiritualità M. Consolatrice a Santa Severa. \n
URL:https://www.diocesidiroma.it/event/larte-dellannuncio-secondo-turno-del-corso-intensivo-di-formazione-al-munus-docendi-per-sacerdoti-e-diaconi/
CATEGORIES:Iniziative degli Uffici
END:VEVENT
END:VCALENDAR