BEGIN:VCALENDAR
VERSION:2.0
PRODID:-//DIOCESI DI ROMA - ECPv4.6.14.1//NONSGML v1.0//EN
CALSCALE:GREGORIAN
METHOD:PUBLISH
X-WR-CALNAME:DIOCESI DI ROMA
X-ORIGINAL-URL:https://www.diocesidiroma.it
X-WR-CALDESC:Eventi per DIOCESI DI ROMA
BEGIN:VEVENT
DTSTART;TZID=Europe/Rome:20241026T000000
DTEND;TZID=Europe/Rome:20241026T000000
DTSTAMP:20260422T001423
CREATED:20240822T093820Z
LAST-MODIFIED:20240822T093820Z
UID:30602-1729900800-1729900800@www.diocesidiroma.it
SUMMARY:"L'arte sotterranea della Roma cristiana" - Parrocchia Santa Giulia Billiart (Uff. tempo libero\, turismo e sport)
DESCRIPTION:“L’arte sotterranea della Roma cristiana” – Parrocchia Santa Giulia Billiart (Uff. tempo libero\, turismo e sport)  \n
URL:https://www.diocesidiroma.it/event/larte-sotterranea-della-roma-cristiana-parrocchia-santa-giulia-billiart-uff-tempo-libero-turismo-e-sport-2/
CATEGORIES:In Diocesi,Iniziative degli Uffici
END:VEVENT
END:VCALENDAR