BEGIN:VCALENDAR
VERSION:2.0
PRODID:-//DIOCESI DI ROMA - ECPv4.6.14.1//NONSGML v1.0//EN
CALSCALE:GREGORIAN
METHOD:PUBLISH
X-WR-CALNAME:DIOCESI DI ROMA
X-ORIGINAL-URL:https://www.diocesidiroma.it
X-WR-CALDESC:Eventi per DIOCESI DI ROMA
BEGIN:VEVENT
DTSTART;TZID=Europe/Rome:20191021T190000
DTEND;TZID=Europe/Rome:20191021T213000
DTSTAMP:20260424T154228
CREATED:20190917T080732Z
LAST-MODIFIED:20190917T080732Z
UID:8415-1571684400-1571693400@www.diocesidiroma.it
SUMMARY:Lectio divina per i diaconi
DESCRIPTION:Lectio divina per i diaconi al Pontificio Seminario Romano Maggiore\, a cura del Centro diocesano per il diaconato permanente. \n
URL:https://www.diocesidiroma.it/event/lectio-divina-per-i-diaconi/
CATEGORIES:Iniziative degli Uffici
END:VEVENT
END:VCALENDAR