BEGIN:VCALENDAR
VERSION:2.0
PRODID:-//DIOCESI DI ROMA - ECPv4.6.14.1//NONSGML v1.0//EN
CALSCALE:GREGORIAN
METHOD:PUBLISH
X-WR-CALNAME:DIOCESI DI ROMA
X-ORIGINAL-URL:https://www.diocesidiroma.it
X-WR-CALDESC:Eventi per DIOCESI DI ROMA
BEGIN:VEVENT
DTSTART;TZID=Europe/Rome:20191116T093000
DTEND;TZID=Europe/Rome:20191116T170000
DTSTAMP:20260421T182101
CREATED:20190917T111420Z
LAST-MODIFIED:20190917T111420Z
UID:8527-1573896600-1573923600@www.diocesidiroma.it
SUMMARY:"Linguaggio dell'annuncio"\, incontro di formazione per gli educatori degli adolescenti
DESCRIPTION:“Linguaggio dell’annuncio”\, incontro di formazione per gli educatori degli adolescenti al Pontificio Seminario Romano Maggiore a cura del Servizio per la pastorale giovanile. \n
URL:https://www.diocesidiroma.it/event/linguaggio-dellannuncio-incontro-di-formazione-per-gli-educatori-degli-adolescenti/
CATEGORIES:Iniziative degli Uffici
END:VEVENT
END:VCALENDAR