BEGIN:VCALENDAR
VERSION:2.0
PRODID:-//DIOCESI DI ROMA - ECPv4.6.14.1//NONSGML v1.0//EN
CALSCALE:GREGORIAN
METHOD:PUBLISH
X-WR-CALNAME:DIOCESI DI ROMA
X-ORIGINAL-URL:https://www.diocesidiroma.it
X-WR-CALDESC:Eventi per DIOCESI DI ROMA
BEGIN:VEVENT
DTSTART;TZID=Europe/Rome:20181201T000000
DTEND;TZID=Europe/Rome:20181201T000000
DTSTAMP:20260422T095629
CREATED:20180918T122037Z
LAST-MODIFIED:20180918T122037Z
UID:4631-1543622400-1543622400@www.diocesidiroma.it
SUMMARY:Liturgia della Parola e accoglienza dei nuovi gruppi post-Cresima
DESCRIPTION:Liturgia della Parola e accoglienza dei nuovi gruppi dopo la Cresima presso la parrocchia dei Santi Aquila e Priscilla\, a cura del Servizio per la pastorale giovanile.  \n
URL:https://www.diocesidiroma.it/event/liturgia-della-parola-e-accoglienza-dei-nuovi-gruppi-post-cresima/
CATEGORIES:Iniziative degli Uffici
END:VEVENT
END:VCALENDAR