BEGIN:VCALENDAR
VERSION:2.0
PRODID:-//DIOCESI DI ROMA - ECPv4.6.14.1//NONSGML v1.0//EN
CALSCALE:GREGORIAN
METHOD:PUBLISH
X-WR-CALNAME:DIOCESI DI ROMA
X-ORIGINAL-URL:https://www.diocesidiroma.it
X-WR-CALDESC:Eventi per DIOCESI DI ROMA
BEGIN:VEVENT
DTSTART;TZID=Europe/Rome:20250306T093000
DTEND;TZID=Europe/Rome:20250306T123000
DTSTAMP:20260421T182100
CREATED:20250228T095052Z
LAST-MODIFIED:20250228T095052Z
UID:34220-1741253400-1741264200@www.diocesidiroma.it
SUMMARY:Liturgia penitenziale con i presbiteri e i diaconi a San Giovanni in Laterano
DESCRIPTION:Liturgia penitenziale con i presbiteri e i diaconi a San Giovanni in Laterano \n
URL:https://www.diocesidiroma.it/event/liturgia-penitenziale-con-i-presbiteri-e-i-diaconi-a-san-giovanni-in-laterano/
CATEGORIES:Vicario Generale
END:VEVENT
END:VCALENDAR