BEGIN:VCALENDAR
VERSION:2.0
PRODID:-//DIOCESI DI ROMA - ECPv4.6.14.1//NONSGML v1.0//EN
CALSCALE:GREGORIAN
METHOD:PUBLISH
X-WR-CALNAME:DIOCESI DI ROMA
X-ORIGINAL-URL:https://www.diocesidiroma.it
X-WR-CALDESC:Eventi per DIOCESI DI ROMA
BEGIN:VEVENT
DTSTART;TZID=Europe/Rome:20240115T000000
DTEND;TZID=Europe/Rome:20240115T000000
DTSTAMP:20260422T192120
CREATED:20240122T122033Z
LAST-MODIFIED:20240122T122033Z
UID:28616-1705276800-1705276800@www.diocesidiroma.it
SUMMARY:Liturgia penitenziale con il clero presieduta dal Cardinale Vicario - Basilica di San Giovanni in Laterano
DESCRIPTION:Liturgia penitenziale con il clero presieduta dal Cardinale Vicario – Basilica di San Giovanni in Laterano \n
URL:https://www.diocesidiroma.it/event/liturgia-penitenziale-con-il-clero-presieduta-dal-cardinale-vicario-basilica-di-san-giovanni-in-laterano/
CATEGORIES:In Diocesi
END:VEVENT
END:VCALENDAR