BEGIN:VCALENDAR
VERSION:2.0
PRODID:-//DIOCESI DI ROMA - ECPv4.6.14.1//NONSGML v1.0//EN
CALSCALE:GREGORIAN
METHOD:PUBLISH
X-WR-CALNAME:DIOCESI DI ROMA
X-ORIGINAL-URL:https://www.diocesidiroma.it
X-WR-CALDESC:Eventi per DIOCESI DI ROMA
BEGIN:VEVENT
DTSTART;TZID=Europe/Rome:20200606T000000
DTEND;TZID=Europe/Rome:20200606T000000
DTSTAMP:20260422T023708
CREATED:20200219T090159Z
LAST-MODIFIED:20200219T090159Z
UID:10115-1591401600-1591401600@www.diocesidiroma.it
SUMMARY:Liturgia penitenziale per le confessioni dei neo-battezzati a San Giovanni in Laterano
DESCRIPTION:Liturgia penitenziale per le confessioni dei neo-battezzati a San Giovanni in Laterano\, a cura del Servizio per il catecumenato. \n
URL:https://www.diocesidiroma.it/event/liturgia-penitenziale-per-le-confessioni-dei-neo-battezzati-a-san-giovanni-in-laterano/
CATEGORIES:Iniziative degli Uffici
END:VEVENT
END:VCALENDAR