BEGIN:VCALENDAR
VERSION:2.0
PRODID:-//DIOCESI DI ROMA - ECPv4.6.14.1//NONSGML v1.0//EN
CALSCALE:GREGORIAN
METHOD:PUBLISH
X-WR-CALNAME:DIOCESI DI ROMA
X-ORIGINAL-URL:https://www.diocesidiroma.it
X-WR-CALDESC:Eventi per DIOCESI DI ROMA
BEGIN:VEVENT
DTSTART;VALUE=DATE:20260406
DTEND;VALUE=DATE:20260407
DTSTAMP:20260422T231317
CREATED:20251001T123657Z
LAST-MODIFIED:20251001T123657Z
UID:37572-1775433600-1775519999@www.diocesidiroma.it
SUMMARY:LUNEDI' DELL'ANGELO
DESCRIPTION:LUNEDI’ DELL’ANGELO \n
URL:https://www.diocesidiroma.it/event/lunedi-dellangelo-6/
CATEGORIES:Ricorrenze
END:VEVENT
END:VCALENDAR