BEGIN:VCALENDAR
VERSION:2.0
PRODID:-//DIOCESI DI ROMA - ECPv4.6.14.1//NONSGML v1.0//EN
CALSCALE:GREGORIAN
METHOD:PUBLISH
X-WR-CALNAME:DIOCESI DI ROMA
X-ORIGINAL-URL:https://www.diocesidiroma.it
X-WR-CALDESC:Eventi per DIOCESI DI ROMA
BEGIN:VEVENT
DTSTART;TZID=Europe/Rome:20191019T090000
DTEND;TZID=Europe/Rome:20191019T090000
DTSTAMP:20260425T104444
CREATED:20190917T061957Z
LAST-MODIFIED:20190917T061957Z
UID:8393-1571475600-1571475600@www.diocesidiroma.it
SUMMARY:Marcia per l'ambiente a piazza Farnese
DESCRIPTION:Marcia per l’ambiente a piazza Farnese\, a cura del Servizio per la pastorale sociale. \n
URL:https://www.diocesidiroma.it/event/marcia-per-lambiente-a-piazza-farnese/
CATEGORIES:Iniziative degli Uffici
END:VEVENT
END:VCALENDAR