BEGIN:VCALENDAR
VERSION:2.0
PRODID:-//DIOCESI DI ROMA - ECPv4.6.14.1//NONSGML v1.0//EN
CALSCALE:GREGORIAN
METHOD:PUBLISH
X-WR-CALNAME:DIOCESI DI ROMA
X-ORIGINAL-URL:https://www.diocesidiroma.it
X-WR-CALDESC:Eventi per DIOCESI DI ROMA
BEGIN:VEVENT
DTSTART;VALUE=DATE:20180101
DTEND;VALUE=DATE:20180102
DTSTAMP:20260425T155538
CREATED:20171228T121045Z
LAST-MODIFIED:20171228T121106Z
UID:490-1514764800-1514851199@www.diocesidiroma.it
SUMMARY:MARIA SANTISSIMA MADRE DI DIO
DESCRIPTION:
URL:https://www.diocesidiroma.it/event/maria-santissima-madre-di-dio/
CATEGORIES:Ricorrenze
END:VEVENT
END:VCALENDAR