BEGIN:VCALENDAR
VERSION:2.0
PRODID:-//DIOCESI DI ROMA - ECPv4.6.14.1//NONSGML v1.0//EN
CALSCALE:GREGORIAN
METHOD:PUBLISH
X-WR-CALNAME:DIOCESI DI ROMA
X-ORIGINAL-URL:https://www.diocesidiroma.it
X-WR-CALDESC:Eventi per DIOCESI DI ROMA
BEGIN:VEVENT
DTSTART;TZID=Europe/Rome:20231031T000000
DTEND;TZID=Europe/Rome:20231031T000000
DTSTAMP:20260423T023031
CREATED:20231006T083310Z
LAST-MODIFIED:20231006T083310Z
UID:27501-1698710400-1698710400@www.diocesidiroma.it
SUMMARY:Mattina culturale - (Uff. form. perm. clero)
DESCRIPTION:Mattina culturale – (Uff. form. perm. clero) \n
URL:https://www.diocesidiroma.it/event/mattina-culturale-uff-form-perm-clero/
CATEGORIES:In Diocesi,Iniziative degli Uffici
END:VEVENT
END:VCALENDAR