BEGIN:VCALENDAR
VERSION:2.0
PRODID:-//DIOCESI DI ROMA - ECPv4.6.14.1//NONSGML v1.0//EN
CALSCALE:GREGORIAN
METHOD:PUBLISH
X-WR-CALNAME:DIOCESI DI ROMA
X-ORIGINAL-URL:https://www.diocesidiroma.it
X-WR-CALDESC:Eventi per DIOCESI DI ROMA
BEGIN:VEVENT
DTSTART;TZID=Europe/Rome:20251219T180000
DTEND;TZID=Europe/Rome:20251219T190000
DTSTAMP:20260422T095512
CREATED:20251212T135024Z
LAST-MODIFIED:20251212T135024Z
UID:39079-1766167200-1766170800@www.diocesidiroma.it
SUMMARY:Meditazione di Avvento nella parrocchia Santa Maria Assunta e San Giuseppe
DESCRIPTION:Meditazione di Avvento nella parrocchia Santa Maria Assunta e San Giuseppe a Primavalle \n
URL:https://www.diocesidiroma.it/event/meditazione-di-avvento-nella-parrocchia-santa-maria-assunta-e-san-giuseppe/
CATEGORIES:Vicario Generale
END:VEVENT
END:VCALENDAR