BEGIN:VCALENDAR
VERSION:2.0
PRODID:-//DIOCESI DI ROMA - ECPv4.6.14.1//NONSGML v1.0//EN
CALSCALE:GREGORIAN
METHOD:PUBLISH
X-WR-CALNAME:DIOCESI DI ROMA
X-ORIGINAL-URL:https://www.diocesidiroma.it
X-WR-CALDESC:Eventi per DIOCESI DI ROMA
BEGIN:VEVENT
DTSTART;TZID=Europe/Rome:20251217T183000
DTEND;TZID=Europe/Rome:20251217T193000
DTSTAMP:20260422T051732
CREATED:20251212T134221Z
LAST-MODIFIED:20251212T134221Z
UID:39063-1765996200-1765999800@www.diocesidiroma.it
SUMMARY:Meditazione di Avvento nella parrocchia Santi Aquila e Priscilla
DESCRIPTION:Meditazione di Avvento nella parrocchia Santi Aquila e Priscilla \n
URL:https://www.diocesidiroma.it/event/meditazione-di-avvento-nella-parrocchia-santi-aquila-e-priscilla/
CATEGORIES:Vicario Generale
END:VEVENT
END:VCALENDAR