BEGIN:VCALENDAR
VERSION:2.0
PRODID:-//DIOCESI DI ROMA - ECPv4.6.14.1//NONSGML v1.0//EN
CALSCALE:GREGORIAN
METHOD:PUBLISH
X-WR-CALNAME:DIOCESI DI ROMA
X-ORIGINAL-URL:https://www.diocesidiroma.it
X-WR-CALDESC:Eventi per DIOCESI DI ROMA
BEGIN:VEVENT
DTSTART;VALUE=DATE:20200226
DTEND;VALUE=DATE:20200227
DTSTAMP:20260423T152012
CREATED:20190925T145127Z
LAST-MODIFIED:20190925T145127Z
UID:8764-1582675200-1582761599@www.diocesidiroma.it
SUMMARY:Mercoledì delle Ceneri
DESCRIPTION:Mercoledì delle Ceneri. \n
URL:https://www.diocesidiroma.it/event/mercoledi-delle-ceneri-3/
CATEGORIES:Ricorrenze
END:VEVENT
END:VCALENDAR