BEGIN:VCALENDAR
VERSION:2.0
PRODID:-//DIOCESI DI ROMA - ECPv4.6.14.1//NONSGML v1.0//EN
CALSCALE:GREGORIAN
METHOD:PUBLISH
X-WR-CALNAME:DIOCESI DI ROMA
X-ORIGINAL-URL:https://www.diocesidiroma.it
X-WR-CALDESC:Eventi per DIOCESI DI ROMA
BEGIN:VEVENT
DTSTART;VALUE=DATE:20180214
DTEND;VALUE=DATE:20180215
DTSTAMP:20260425T025519
CREATED:20171228T132741Z
LAST-MODIFIED:20171228T132741Z
UID:565-1518566400-1518652799@www.diocesidiroma.it
SUMMARY:MERCOLEDI’ DELLE CENERI
DESCRIPTION:
URL:https://www.diocesidiroma.it/event/mercoledi-delle-ceneri/
CATEGORIES:Ricorrenze
END:VEVENT
END:VCALENDAR