BEGIN:VCALENDAR
VERSION:2.0
PRODID:-//DIOCESI DI ROMA - ECPv4.6.14.1//NONSGML v1.0//EN
CALSCALE:GREGORIAN
METHOD:PUBLISH
X-WR-CALNAME:DIOCESI DI ROMA
X-ORIGINAL-URL:https://www.diocesidiroma.it
X-WR-CALDESC:Eventi per DIOCESI DI ROMA
BEGIN:VEVENT
DTSTART;TZID=Europe/Rome:20251012T100000
DTEND;TZID=Europe/Rome:20251012T100000
DTSTAMP:20260422T044630
CREATED:20251003T110823Z
LAST-MODIFIED:20251003T110823Z
UID:37660-1760263200-1760263200@www.diocesidiroma.it
SUMMARY:Messa a Sant’Andrea delle Fratte in occasione del Giubileo della Spiritualità Mariana
DESCRIPTION:Messa a Sant’Andrea delle Fratte in occasione del Giubileo della Spiritualità Mariana \n
URL:https://www.diocesidiroma.it/event/messa-a-santandrea-delle-fratte-in-occasione-del-giubileo-della-spiritualita-mariana/
CATEGORIES:Vicario Generale
END:VEVENT
END:VCALENDAR