BEGIN:VCALENDAR
VERSION:2.0
PRODID:-//DIOCESI DI ROMA - ECPv4.6.14.1//NONSGML v1.0//EN
CALSCALE:GREGORIAN
METHOD:PUBLISH
X-WR-CALNAME:DIOCESI DI ROMA
X-ORIGINAL-URL:https://www.diocesidiroma.it
X-WR-CALDESC:Eventi per DIOCESI DI ROMA
BEGIN:VEVENT
DTSTART;TZID=Europe/Rome:20240328T000000
DTEND;TZID=Europe/Rome:20240328T000000
DTSTAMP:20260424T061531
CREATED:20240125T083421Z
LAST-MODIFIED:20240125T083421Z
UID:28699-1711584000-1711584000@www.diocesidiroma.it
SUMMARY:Messa Crismale presieduta dal Santo  Padre - Basilica di San Pietro
DESCRIPTION:Messa Crismale presieduta dal Santo Padre – Basilica di San Pietro \n
URL:https://www.diocesidiroma.it/event/messa-crismale-presieduta-dal-santo-padre-basilica-di-san-pietro/
CATEGORIES:Celebrazioni del Santo Padre
END:VEVENT
END:VCALENDAR