BEGIN:VCALENDAR
VERSION:2.0
PRODID:-//DIOCESI DI ROMA - ECPv4.6.14.1//NONSGML v1.0//EN
CALSCALE:GREGORIAN
METHOD:PUBLISH
X-WR-CALNAME:DIOCESI DI ROMA
X-ORIGINAL-URL:https://www.diocesidiroma.it
X-WR-CALDESC:Eventi per DIOCESI DI ROMA
BEGIN:VEVENT
DTSTART;TZID=Europe/Rome:20241216T160000
DTEND;TZID=Europe/Rome:20241216T160000
DTSTAMP:20260422T100116
CREATED:20241216T073920Z
LAST-MODIFIED:20241216T073920Z
UID:32548-1734364800-1734364800@www.diocesidiroma.it
SUMMARY:Messa degli Sportivi a Santa Croce al Flaminio
DESCRIPTION:Messa degli Sportivi a Santa Croce al Flaminio \n
URL:https://www.diocesidiroma.it/event/messa-degli-sportivi-a-santa-croce-al-flaminio/
CATEGORIES:Vicario Generale
END:VEVENT
END:VCALENDAR