BEGIN:VCALENDAR
VERSION:2.0
PRODID:-//DIOCESI DI ROMA - ECPv4.6.14.1//NONSGML v1.0//EN
CALSCALE:GREGORIAN
METHOD:PUBLISH
X-WR-CALNAME:DIOCESI DI ROMA
X-ORIGINAL-URL:https://www.diocesidiroma.it
X-WR-CALDESC:Eventi per DIOCESI DI ROMA
BEGIN:VEVENT
DTSTART;TZID=Europe/Rome:20260402T080000
DTEND;TZID=Europe/Rome:20260402T170000
DTSTAMP:20260422T231834
CREATED:20251001T122413Z
LAST-MODIFIED:20251001T122413Z
UID:37560-1775116800-1775149200@www.diocesidiroma.it
SUMMARY:Messa in Coena Domini
DESCRIPTION:Messa in Coena Domini \n
URL:https://www.diocesidiroma.it/event/messa-in-coena-domini-3/
CATEGORIES:Ricorrenze
END:VEVENT
END:VCALENDAR