BEGIN:VCALENDAR
VERSION:2.0
PRODID:-//DIOCESI DI ROMA - ECPv4.6.14.1//NONSGML v1.0//EN
CALSCALE:GREGORIAN
METHOD:PUBLISH
X-WR-CALNAME:DIOCESI DI ROMA
X-ORIGINAL-URL:https://www.diocesidiroma.it
X-WR-CALDESC:Eventi per DIOCESI DI ROMA
BEGIN:VEVENT
DTSTART;TZID=Europe/Rome:20251004T190000
DTEND;TZID=Europe/Rome:20251004T190000
DTSTAMP:20260421T103641
CREATED:20250926T091803Z
LAST-MODIFIED:20250926T091803Z
UID:37426-1759604400-1759604400@www.diocesidiroma.it
SUMMARY:Messa nella parrocchia San Luigi Gonzaga
DESCRIPTION:Messa nella parrocchia San Luigi Gonzaga \n
URL:https://www.diocesidiroma.it/event/messa-nella-parrocchia-san-luigi-gonzaga/
CATEGORIES:Vicario Generale
END:VEVENT
END:VCALENDAR