BEGIN:VCALENDAR
VERSION:2.0
PRODID:-//DIOCESI DI ROMA - ECPv4.6.14.1//NONSGML v1.0//EN
CALSCALE:GREGORIAN
METHOD:PUBLISH
X-WR-CALNAME:DIOCESI DI ROMA
X-ORIGINAL-URL:https://www.diocesidiroma.it
X-WR-CALDESC:Eventi per DIOCESI DI ROMA
BEGIN:VEVENT
DTSTART;TZID=Europe/Rome:20181019T173000
DTEND;TZID=Europe/Rome:20181019T173000
DTSTAMP:20260422T044040
CREATED:20180912T131520Z
LAST-MODIFIED:20180912T131520Z
UID:4414-1539970200-1539970200@www.diocesidiroma.it
SUMMARY:Messa per i medici nella festa di san Luca
DESCRIPTION:Messa per i medici nella festa di san Luca\, presso la basilica di San Giovanni in Laterano. \n
URL:https://www.diocesidiroma.it/event/messa-per-i-medici-nella-festa-di-san-luca/
CATEGORIES:In Diocesi
END:VEVENT
END:VCALENDAR