BEGIN:VCALENDAR
VERSION:2.0
PRODID:-//DIOCESI DI ROMA - ECPv4.6.14.1//NONSGML v1.0//EN
CALSCALE:GREGORIAN
METHOD:PUBLISH
X-WR-CALNAME:DIOCESI DI ROMA
X-ORIGINAL-URL:https://www.diocesidiroma.it
X-WR-CALDESC:Eventi per DIOCESI DI ROMA
BEGIN:VEVENT
DTSTART;TZID=Europe/Rome:20181225T000000
DTEND;TZID=Europe/Rome:20181225T000000
DTSTAMP:20260422T182705
CREATED:20180918T125410Z
LAST-MODIFIED:20180918T125410Z
UID:4677-1545696000-1545696000@www.diocesidiroma.it
SUMMARY:Natale del Signore
DESCRIPTION:Natale del Signore \n
URL:https://www.diocesidiroma.it/event/natale-del-signore-2/
CATEGORIES:Ricorrenze
END:VEVENT
END:VCALENDAR