BEGIN:VCALENDAR
VERSION:2.0
PRODID:-//DIOCESI DI ROMA - ECPv4.6.14.1//NONSGML v1.0//EN
CALSCALE:GREGORIAN
METHOD:PUBLISH
X-WR-CALNAME:DIOCESI DI ROMA
X-ORIGINAL-URL:https://www.diocesidiroma.it
X-WR-CALDESC:Eventi per DIOCESI DI ROMA
BEGIN:VEVENT
DTSTART;VALUE=DATE:20251225
DTEND;VALUE=DATE:20251226
DTSTAMP:20260421T223546
CREATED:20250911T072838Z
LAST-MODIFIED:20250911T072838Z
UID:37081-1766620800-1766707199@www.diocesidiroma.it
SUMMARY:NATALE DEL SIGNORE
DESCRIPTION:NATALE DEL SIGNORE \n
URL:https://www.diocesidiroma.it/event/natale-del-signore-6/
CATEGORIES:In Diocesi,Ricorrenze
END:VEVENT
END:VCALENDAR