BEGIN:VCALENDAR
VERSION:2.0
PRODID:-//DIOCESI DI ROMA - ECPv4.6.14.1//NONSGML v1.0//EN
CALSCALE:GREGORIAN
METHOD:PUBLISH
X-WR-CALNAME:DIOCESI DI ROMA
X-ORIGINAL-URL:https://www.diocesidiroma.it
X-WR-CALDESC:Eventi per DIOCESI DI ROMA
BEGIN:VEVENT
DTSTART;TZID=Europe/Rome:20190624T000000
DTEND;TZID=Europe/Rome:20190624T000000
DTSTAMP:20260421T110427
CREATED:20181023T133950Z
LAST-MODIFIED:20181023T133950Z
UID:5301-1561334400-1561334400@www.diocesidiroma.it
SUMMARY:Natività di San Giovanni Battista
DESCRIPTION:Natività di San Giovanni Battista. \n
URL:https://www.diocesidiroma.it/event/nativita-di-san-giovanni-battista-2/
CATEGORIES:Ricorrenze
END:VEVENT
END:VCALENDAR