BEGIN:VCALENDAR
VERSION:2.0
PRODID:-//DIOCESI DI ROMA - ECPv4.6.14.1//NONSGML v1.0//EN
CALSCALE:GREGORIAN
METHOD:PUBLISH
X-WR-CALNAME:DIOCESI DI ROMA
X-ORIGINAL-URL:https://www.diocesidiroma.it
X-WR-CALDESC:Eventi per DIOCESI DI ROMA
BEGIN:VEVENT
DTSTART;TZID=Europe/Rome:20221213T140000
DTEND;TZID=Europe/Rome:20221213T140000
DTSTAMP:20260421T112400
CREATED:20221209T100402Z
LAST-MODIFIED:20221209T100424Z
UID:24409-1670940000-1670940000@www.diocesidiroma.it
SUMMARY:Nel Palazzo del Vicariato partecipa alla presentazione del Progetto “Officina delle opportunità per l’orientamento e l’inserimento lavorativo” promosso dal Vicariato di Roma\, la Regione Lazio e Roma Capitale
DESCRIPTION:Nel Palazzo del Vicariato partecipa alla presentazione del Progetto “Officina delle opportunità per l’orientamento e l’inserimento lavorativo” promosso dal Vicariato di Roma\, la Regione Lazio e Roma Capitale. \n
URL:https://www.diocesidiroma.it/event/nel-palazzo-del-vicariato-partecipa-alla-presentazione-del-progetto-officina-delle-opportunita-per-lorientamento-e-linserimento-lavorativo-promosso-dal-vicariato-di/
CATEGORIES:NON USARE --- Agenda del Vicario
END:VEVENT
END:VCALENDAR