BEGIN:VCALENDAR
VERSION:2.0
PRODID:-//DIOCESI DI ROMA - ECPv4.6.14.1//NONSGML v1.0//EN
CALSCALE:GREGORIAN
METHOD:PUBLISH
X-WR-CALNAME:DIOCESI DI ROMA
X-ORIGINAL-URL:https://www.diocesidiroma.it
X-WR-CALDESC:Eventi per DIOCESI DI ROMA
BEGIN:VEVENT
DTSTART;TZID=Europe/Rome:20201123T000000
DTEND;TZID=Europe/Rome:20201123T000000
DTSTAMP:20260426T025507
CREATED:20201120T092202Z
LAST-MODIFIED:20201120T092212Z
UID:12558-1606089600-1606089600@www.diocesidiroma.it
SUMMARY:Nel pomeriggio al Pontificio Seminario Romano Maggiore incontra i seminaristi del 1° anno
DESCRIPTION:Nel pomeriggio al Pontificio Seminario Romano Maggiore incontra i seminaristi del 1° anno. \n
URL:https://www.diocesidiroma.it/event/nel-pomeriggio-al-pontificio-seminario-romano-maggiore-incontra-i-seminaristi-del-1-anno-3/
CATEGORIES:NON USARE --- Agenda del Vicario
END:VEVENT
END:VCALENDAR