BEGIN:VCALENDAR
VERSION:2.0
PRODID:-//DIOCESI DI ROMA - ECPv4.6.14.1//NONSGML v1.0//EN
CALSCALE:GREGORIAN
METHOD:PUBLISH
X-WR-CALNAME:DIOCESI DI ROMA
X-ORIGINAL-URL:https://www.diocesidiroma.it
X-WR-CALDESC:Eventi per DIOCESI DI ROMA
BEGIN:VEVENT
DTSTART;TZID=Europe/Rome:20200921T160000
DTEND;TZID=Europe/Rome:20200921T170000
DTSTAMP:20260420T214148
CREATED:20200918T103318Z
LAST-MODIFIED:20200918T103318Z
UID:11716-1600704000-1600707600@www.diocesidiroma.it
SUMMARY:Nel pomeriggio partecipa al Consiglio Episcopale Permanente della Conferenza Episcopale Italiana (fino a mercoledì).
DESCRIPTION:Nel pomeriggio partecipa al Consiglio Episcopale Permanente della Conferenza Episcopale Italiana (fino a mercoledì). \n
URL:https://www.diocesidiroma.it/event/nel-pomeriggio-partecipa-al-consiglio-episcopale-permanente-della-conferenza-episcopale-italiana-fino-a-mercoledi-2/
CATEGORIES:NON USARE --- Agenda del Vicario
END:VEVENT
END:VCALENDAR