BEGIN:VCALENDAR
VERSION:2.0
PRODID:-//DIOCESI DI ROMA - ECPv4.6.14.1//NONSGML v1.0//EN
CALSCALE:GREGORIAN
METHOD:PUBLISH
X-WR-CALNAME:DIOCESI DI ROMA
X-ORIGINAL-URL:https://www.diocesidiroma.it
X-WR-CALDESC:Eventi per DIOCESI DI ROMA
BEGIN:VEVENT
DTSTART;TZID=Europe/Rome:20210322T000000
DTEND;TZID=Europe/Rome:20210324T000000
DTSTAMP:20260421T053849
CREATED:20210319T083144Z
LAST-MODIFIED:20210319T083144Z
UID:14456-1616371200-1616544000@www.diocesidiroma.it
SUMMARY:Nel pomeriggio partecipa al Consiglio Episcopale Permanente della Conferenza episcopale italiana (fino a mercoledì)
DESCRIPTION:Nel pomeriggio partecipa al Consiglio Episcopale Permanente della Conferenza episcopale italiana (fino a mercoledì). \n
URL:https://www.diocesidiroma.it/event/nel-pomeriggio-partecipa-al-consiglio-episcopale-permanente-della-conferenza-episcopale-italiana-fino-a-mercoledi-3/
CATEGORIES:NON USARE --- Agenda del Vicario
END:VEVENT
END:VCALENDAR