BEGIN:VCALENDAR
VERSION:2.0
PRODID:-//DIOCESI DI ROMA - ECPv4.6.14.1//NONSGML v1.0//EN
CALSCALE:GREGORIAN
METHOD:PUBLISH
X-WR-CALNAME:DIOCESI DI ROMA
X-ORIGINAL-URL:https://www.diocesidiroma.it
X-WR-CALDESC:Eventi per DIOCESI DI ROMA
BEGIN:VEVENT
DTSTART;VALUE=DATE:20251113
DTEND;VALUE=DATE:20251114
DTSTAMP:20260423T154706
CREATED:20251107T111231Z
LAST-MODIFIED:20251107T111231Z
UID:38457-1762992000-1763078399@www.diocesidiroma.it
SUMMARY:Nel pomeriggio partecipa alla giornata dei poveri presso la Diocesi di Aversa
DESCRIPTION:Nel pomeriggio partecipa alla giornata dei poveri presso la Diocesi di Aversa \n
URL:https://www.diocesidiroma.it/event/nel-pomeriggio-partecipa-alla-giornata-dei-poveri-presso-la-diocesi-di-aversa/
CATEGORIES:Vicario Generale
END:VEVENT
END:VCALENDAR