BEGIN:VCALENDAR
VERSION:2.0
PRODID:-//DIOCESI DI ROMA - ECPv4.6.14.1//NONSGML v1.0//EN
CALSCALE:GREGORIAN
METHOD:PUBLISH
X-WR-CALNAME:DIOCESI DI ROMA
X-ORIGINAL-URL:https://www.diocesidiroma.it
X-WR-CALDESC:Eventi per DIOCESI DI ROMA
BEGIN:VEVENT
DTSTART;VALUE=DATE:20250915
DTEND;VALUE=DATE:20250916
DTSTAMP:20260422T193056
CREATED:20250912T094420Z
LAST-MODIFIED:20250912T094420Z
UID:37185-1757894400-1757980799@www.diocesidiroma.it
SUMMARY:Nel pomeriggio presiede la Conferenza Episcopale Laziale a Palestrina
DESCRIPTION:Nel pomeriggio presiede la Conferenza Episcopale Laziale a Palestrina  \n
URL:https://www.diocesidiroma.it/event/nel-pomeriggio-presiede-la-conferenza-episcopale-laziale-a-palestrina/
CATEGORIES:Vicario Generale
END:VEVENT
END:VCALENDAR