BEGIN:VCALENDAR
VERSION:2.0
PRODID:-//DIOCESI DI ROMA - ECPv4.6.14.1//NONSGML v1.0//EN
CALSCALE:GREGORIAN
METHOD:PUBLISH
X-WR-CALNAME:DIOCESI DI ROMA
X-ORIGINAL-URL:https://www.diocesidiroma.it
X-WR-CALDESC:Eventi per DIOCESI DI ROMA
BEGIN:VEVENT
DTSTART;VALUE=DATE:20250911
DTEND;VALUE=DATE:20250912
DTSTAMP:20260424T091452
CREATED:20250905T082002Z
LAST-MODIFIED:20250905T082002Z
UID:36750-1757548800-1757635199@www.diocesidiroma.it
SUMMARY:Nel pomeriggio visita alcune parrocchie di Ostia
DESCRIPTION:Nel pomeriggio visita alcune parrocchie di Ostia \n
URL:https://www.diocesidiroma.it/event/nel-pomeriggio-visita-alcune-parrocchie-di-ostia/
CATEGORIES:Vicario Generale
END:VEVENT
END:VCALENDAR