BEGIN:VCALENDAR
VERSION:2.0
PRODID:-//DIOCESI DI ROMA - ECPv4.6.14.1//NONSGML v1.0//EN
CALSCALE:GREGORIAN
METHOD:PUBLISH
X-WR-CALNAME:DIOCESI DI ROMA
X-ORIGINAL-URL:https://www.diocesidiroma.it
X-WR-CALDESC:Eventi per DIOCESI DI ROMA
BEGIN:VEVENT
DTSTART;TZID=Europe/Rome:20190509T190000
DTEND;TZID=Europe/Rome:20190509T190000
DTSTAMP:20260422T115602
CREATED:20190503T094542Z
LAST-MODIFIED:20190503T094542Z
UID:7475-1557428400-1557428400@www.diocesidiroma.it
SUMMARY:Nella basilica di San Giovanni in Laterano accoglie il Santo Padre in occasione dell’assemblea diocesana
DESCRIPTION:Nella basilica di San Giovanni in Laterano accoglie il Santo Padre in occasione dell’assemblea diocesana. \n
URL:https://www.diocesidiroma.it/event/nella-basilica-di-san-giovanni-in-laterano-accoglie-il-santo-padre-in-occasione-dellassemblea-diocesana/
CATEGORIES:NON USARE --- Agenda del Vicario
END:VEVENT
END:VCALENDAR