BEGIN:VCALENDAR
VERSION:2.0
PRODID:-//DIOCESI DI ROMA - ECPv4.6.14.1//NONSGML v1.0//EN
CALSCALE:GREGORIAN
METHOD:PUBLISH
X-WR-CALNAME:DIOCESI DI ROMA
X-ORIGINAL-URL:https://www.diocesidiroma.it
X-WR-CALDESC:Eventi per DIOCESI DI ROMA
BEGIN:VEVENT
DTSTART;TZID=Europe/Rome:20190315T163000
DTEND;TZID=Europe/Rome:20190315T183000
DTSTAMP:20260421T091518
CREATED:20190311T075157Z
LAST-MODIFIED:20190312T104758Z
UID:6963-1552667400-1552674600@www.diocesidiroma.it
SUMMARY:Nella basilica di San Giovanni in Laterano amministra il sacramento della Riconciliazione
DESCRIPTION:Nella basilica di San Giovanni in Laterano amministra il sacramento della Riconciliazione. \n
URL:https://www.diocesidiroma.it/event/nella-basilica-di-san-giovanni-in-laterano-amministra-il-sacramento-della-confessione/
CATEGORIES:NON USARE --- Agenda del Vicario
END:VEVENT
END:VCALENDAR