BEGIN:VCALENDAR
VERSION:2.0
PRODID:-//DIOCESI DI ROMA - ECPv4.6.14.1//NONSGML v1.0//EN
CALSCALE:GREGORIAN
METHOD:PUBLISH
X-WR-CALNAME:DIOCESI DI ROMA
X-ORIGINAL-URL:https://www.diocesidiroma.it
X-WR-CALDESC:Eventi per DIOCESI DI ROMA
BEGIN:VEVENT
DTSTART;TZID=Europe/Rome:20210312T163000
DTEND;TZID=Europe/Rome:20210312T183000
DTSTAMP:20260421T112332
CREATED:20210305T094211Z
LAST-MODIFIED:20210305T094227Z
UID:14081-1615566600-1615573800@www.diocesidiroma.it
SUMMARY:Nella basilica di San Giovanni in Laterano amministra il Sacramento della Riconciliazione
DESCRIPTION:Nella basilica di San Giovanni in Laterano amministra il Sacramento della Riconciliazione \n
URL:https://www.diocesidiroma.it/event/nella-basilica-di-san-giovanni-in-laterano-amministra-il-sacramento-della-riconciliazione-7/
CATEGORIES:NON USARE --- Agenda del Vicario
END:VEVENT
END:VCALENDAR