BEGIN:VCALENDAR
VERSION:2.0
PRODID:-//DIOCESI DI ROMA - ECPv4.6.14.1//NONSGML v1.0//EN
CALSCALE:GREGORIAN
METHOD:PUBLISH
X-WR-CALNAME:DIOCESI DI ROMA
X-ORIGINAL-URL:https://www.diocesidiroma.it
X-WR-CALDESC:Eventi per DIOCESI DI ROMA
BEGIN:VEVENT
DTSTART;TZID=Europe/Rome:20191213T170000
DTEND;TZID=Europe/Rome:20191213T170000
DTSTAMP:20260422T103244
CREATED:20191206T092028Z
LAST-MODIFIED:20191206T092028Z
UID:9497-1576256400-1576256400@www.diocesidiroma.it
SUMMARY:Nella basilica di San Giovanni in Laterano assiste alla celebrazione della Messa pro natione Gallica presieduta dal cardinale Paul Poupard
DESCRIPTION:Nella basilica di San Giovanni in Laterano assiste alla celebrazione della Messa pro natione Gallica presieduta dal cardinale Paul Poupard. \n
URL:https://www.diocesidiroma.it/event/nella-basilica-di-san-giovanni-in-laterano-assiste-alla-celebrazione-della-messa-pro-natione-gallica-presieduta-dal-cardinale-paul-poupard/
CATEGORIES:NON USARE --- Agenda del Vicario
END:VEVENT
END:VCALENDAR