BEGIN:VCALENDAR
VERSION:2.0
PRODID:-//DIOCESI DI ROMA - ECPv4.6.14.1//NONSGML v1.0//EN
CALSCALE:GREGORIAN
METHOD:PUBLISH
X-WR-CALNAME:DIOCESI DI ROMA
X-ORIGINAL-URL:https://www.diocesidiroma.it
X-WR-CALDESC:Eventi per DIOCESI DI ROMA
BEGIN:VEVENT
DTSTART;TZID=Europe/Rome:20191014T163000
DTEND;TZID=Europe/Rome:20191014T163000
DTSTAMP:20260423T201625
CREATED:20191011T081316Z
LAST-MODIFIED:20191011T081316Z
UID:9040-1571070600-1571070600@www.diocesidiroma.it
SUMMARY:Nella basilica di San Giovanni in Laterano celebra la Messa di ringraziamento per la canonizzazione di madre Giuseppina Vannini Fondatrice delle Figlie di San Camillo
DESCRIPTION:Nella basilica di San Giovanni in Laterano celebra la Messa di ringraziamento per la canonizzazione di madre Giuseppina Vannini Fondatrice delle Figlie di San Camillo. \n
URL:https://www.diocesidiroma.it/event/nella-basilica-di-san-giovanni-in-laterano-celebra-la-messa-di-ringraziamento-per-la-canonizzazione-di-madre-giuseppina-vannini-fondatrice-delle-figlie-di-san-camillo/
CATEGORIES:NON USARE --- Agenda del Vicario
END:VEVENT
END:VCALENDAR