BEGIN:VCALENDAR
VERSION:2.0
PRODID:-//DIOCESI DI ROMA - ECPv4.6.14.1//NONSGML v1.0//EN
CALSCALE:GREGORIAN
METHOD:PUBLISH
X-WR-CALNAME:DIOCESI DI ROMA
X-ORIGINAL-URL:https://www.diocesidiroma.it
X-WR-CALDESC:Eventi per DIOCESI DI ROMA
BEGIN:VEVENT
DTSTART;TZID=Europe/Rome:20231126T110000
DTEND;TZID=Europe/Rome:20231126T110000
DTSTAMP:20260422T032942
CREATED:20231117T120759Z
LAST-MODIFIED:20231117T120759Z
UID:27970-1700996400-1700996400@www.diocesidiroma.it
SUMMARY:Nella basilica di San Giovanni in Laterano celebra la Messa in occasione della 38° Giornata Mondiale dei Giovani Diocesana
DESCRIPTION:Nella basilica di San Giovanni in Laterano celebra la Messa in occasione della 38° Giornata Mondiale dei Giovani Diocesana \n
URL:https://www.diocesidiroma.it/event/nella-basilica-di-san-giovanni-in-laterano-celebra-la-messa-in-occasione-della-38-giornata-mondiale-dei-giovani-diocesana/
CATEGORIES:NON USARE --- Agenda del Vicario
END:VEVENT
END:VCALENDAR