BEGIN:VCALENDAR
VERSION:2.0
PRODID:-//DIOCESI DI ROMA - ECPv4.6.14.1//NONSGML v1.0//EN
CALSCALE:GREGORIAN
METHOD:PUBLISH
X-WR-CALNAME:DIOCESI DI ROMA
X-ORIGINAL-URL:https://www.diocesidiroma.it
X-WR-CALDESC:Eventi per DIOCESI DI ROMA
BEGIN:VEVENT
DTSTART;TZID=Europe/Rome:20231127T173000
DTEND;TZID=Europe/Rome:20231127T173000
DTSTAMP:20260422T141711
CREATED:20231127T081806Z
LAST-MODIFIED:20231127T081806Z
UID:27998-1701106200-1701106200@www.diocesidiroma.it
SUMMARY:Nella Basilica di San Giovanni in Laterano celebra la Messa in suffragio dei sacerdoti e diaconi defunti nell’ultimo anno
DESCRIPTION:Nella Basilica di San Giovanni in Laterano celebra la Messa in suffragio dei sacerdoti e diaconi defunti nell’ultimo anno \n
URL:https://www.diocesidiroma.it/event/nella-basilica-di-san-giovanni-in-laterano-celebra-la-messa-in-suffragio-dei-sacerdoti-e-diaconi-defunti-nellultimo-anno/
CATEGORIES:NON USARE --- Agenda del Vicario
END:VEVENT
END:VCALENDAR