BEGIN:VCALENDAR
VERSION:2.0
PRODID:-//DIOCESI DI ROMA - ECPv4.6.14.1//NONSGML v1.0//EN
CALSCALE:GREGORIAN
METHOD:PUBLISH
X-WR-CALNAME:DIOCESI DI ROMA
X-ORIGINAL-URL:https://www.diocesidiroma.it
X-WR-CALDESC:Eventi per DIOCESI DI ROMA
BEGIN:VEVENT
DTSTART;TZID=Europe/Rome:20200915T080000
DTEND;TZID=Europe/Rome:20200915T090000
DTSTAMP:20260425T012236
CREATED:20200911T074902Z
LAST-MODIFIED:20200911T074902Z
UID:11567-1600156800-1600160400@www.diocesidiroma.it
SUMMARY:Nella basilica di San Giovanni in Laterano celebra la Messa per i dipendenti del Vicariato per l’inizio anno
DESCRIPTION:Nella basilica di San Giovanni in Laterano celebra la Messa per i dipendenti del Vicariato per l’inizio anno. \n
URL:https://www.diocesidiroma.it/event/nella-basilica-di-san-giovanni-in-laterano-celebra-la-messa-per-i-dipendenti-del-vicariato-per-linizio-anno-2/
CATEGORIES:NON USARE --- Agenda del Vicario
END:VEVENT
END:VCALENDAR