BEGIN:VCALENDAR
VERSION:2.0
PRODID:-//DIOCESI DI ROMA - ECPv4.6.14.1//NONSGML v1.0//EN
CALSCALE:GREGORIAN
METHOD:PUBLISH
X-WR-CALNAME:DIOCESI DI ROMA
X-ORIGINAL-URL:https://www.diocesidiroma.it
X-WR-CALDESC:Eventi per DIOCESI DI ROMA
BEGIN:VEVENT
DTSTART;TZID=Europe/Rome:20201106T173000
DTEND;TZID=Europe/Rome:20201106T173000
DTSTAMP:20260422T085859
CREATED:20201030T095106Z
LAST-MODIFIED:20201030T095106Z
UID:12256-1604683800-1604683800@www.diocesidiroma.it
SUMMARY:Nella basilica di San Giovanni in Laterano celebra la Messa per i presbiteri e diaconi della diocesi di Roma defunti nell’anno 2020
DESCRIPTION:Nella basilica di San Giovanni in Laterano celebra la Messa per i presbiteri e diaconi della diocesi di Roma defunti nell’anno 2020. \n
URL:https://www.diocesidiroma.it/event/nella-basilica-di-san-giovanni-in-laterano-celebra-la-messa-per-i-presbiteri-e-diaconi-della-diocesi-di-roma-defunti-nellanno-2020/
CATEGORIES:NON USARE --- Agenda del Vicario
END:VEVENT
END:VCALENDAR