BEGIN:VCALENDAR
VERSION:2.0
PRODID:-//DIOCESI DI ROMA - ECPv4.6.14.1//NONSGML v1.0//EN
CALSCALE:GREGORIAN
METHOD:PUBLISH
X-WR-CALNAME:DIOCESI DI ROMA
X-ORIGINAL-URL:https://www.diocesidiroma.it
X-WR-CALDESC:Eventi per DIOCESI DI ROMA
BEGIN:VEVENT
DTSTART;TZID=Europe/Rome:20191124T110000
DTEND;TZID=Europe/Rome:20191124T110000
DTSTAMP:20260423T203722
CREATED:20191115T102518Z
LAST-MODIFIED:20191115T102518Z
UID:9282-1574593200-1574593200@www.diocesidiroma.it
SUMMARY:Nella basilica di San Giovanni in Laterano celebra la Messa per il 150° anniversario del Circolo di San Pietro
DESCRIPTION:Nella basilica di San Giovanni in Laterano celebra la Messa per il 150° anniversario del Circolo di San Pietro. \n
URL:https://www.diocesidiroma.it/event/nella-basilica-di-san-giovanni-in-laterano-celebra-la-messa-per-il-150-anniversario-del-circolo-di-san-pietro/
CATEGORIES:NON USARE --- Agenda del Vicario
END:VEVENT
END:VCALENDAR